Workbook

Sheet Master Copy
A2: Odometer Reading | D2: CAR 1 | E2: Car 2 | O2: Employee Monthly Report
A3: End of Month | D3: =MAX(R11:R42) -> 0 | E3: =MAX(S11:S42) -> 0 | H3: New Jersey Conference of Seventh-day Adventists
A4: Beginning of the Month | D4: =+R11 -> 0 | E4: =+S11 -> 0 | O4: Month: | P4: 2025
A5: Total Miles Driven | D5: =+D3-D4+E3-E4 -> 0 | O5: Employee #:
A6: Less Personal Miles | D6: =+H43 -> 0 | H6: 2303 Brunswick Ave, Trenton, NJ 08648 * (609) 802-0860 * Fax: (609) 802-0853 | O6: Name:
A7: Less Commute Miles | D7: =+G43 -> 0 | O7: Address:
A8: Special Travel Miles | D8: =+I44 -> 0 | H8: *** Email Reports to: njtreasury@njcsda.org *** | O8: City/State/Zip:
A9: Total Regular Business Miles | D9: =+D5-(+D6+D7+D8) -> 0 | R9: Daily Odometer Reading
F10: TRAVEL IN DISTRICT (Note 1) | I10: AUTHORIZED CONFERENCE VISITS AND ACTIVITIES TRAVEL (Note 2) | R10: Car # 1 | S10: Car # 2
A11: Date | B11: SUMMARY OF ACTIVITIES & LOCATION | F11: Business | G11: Commute | H11: Personal | I11: Miles | J11: P/Diem | K11: * Rooms | L11: * Other | N11: Comments | Q11: Date
A12: 1 | H12: =SUM($R12-$R11)+($S12-$S11)-(+$F12+$G12+I12) -> 0 | Q12: 1
A13: 2 | H13: =IF((R13+S13)<1,0,($R13-$R12)+($S13-$S12)-(+$F13+$G13+I13)) -> 0 | Q13: 2
A14: 3 | H14: =IF((R14+S14)<1,0,($R14-$R13)+($S14-$S13)-(+$F14+$G14+I14)) -> 0 | Q14: 3
A15: 4 | H15: =IF((R15+S15)<1,0,($R15-$R14)+($S15-$S14)-(+$F15+$G15+I15)) -> 0 | Q15: 4
A16: 5 | H16: =IF((R16+S16)<1,0,($R16-$R15)+($S16-$S15)-(+$F16+$G16+I16)) -> 0 | Q16: 5
A17: 6 | H17: =IF((R17+S17)<1,0,($R17-$R16)+($S17-$S16)-(+$F17+$G17+I17)) -> 0 | Q17: 6
A18: 7 | H18: =IF((R18+S18)<1,0,($R18-$R17)+($S18-$S17)-(+$F18+$G18+I18)) -> 0 | Q18: 7
A19: 8 | H19: =IF((R19+S19)<1,0,($R19-$R18)+($S19-$S18)-(+$F19+$G19+I19)) -> 0 | Q19: 8
A20: 9 | H20: =IF((R20+S20)<1,0,($R20-$R19)+($S20-$S19)-(+$F20+$G20+I20)) -> 0 | Q20: 9
A21: 10 | H21: =IF((R21+S21)<1,0,($R21-$R20)+($S21-$S20)-(+$F21+$G21+I21)) -> 0 | Q21: 10
A22: 11 | H22: =IF((R22+S22)<1,0,($R22-$R21)+($S22-$S21)-(+$F22+$G22+I22)) -> 0 | Q22: 11
A23: 12 | H23: =IF((R23+S23)<1,0,($R23-$R22)+($S23-$S22)-(+$F23+$G23+I23)) -> 0 | Q23: 12
A24: 13 | H24: =IF((R24+S24)<1,0,($R24-$R23)+($S24-$S23)-(+$F24+$G24+I24)) -> 0 | Q24: 13
... A42: 31 | H42: =IF((R42+S42)<1,0,($R42-$R41)+($S42-$S41)-(+$F42+$G42+I42)) -> 0 | Q42: 31
B43: TOTALS | F43: =SUM(F12:F42) -> 0 | G43: =SUM(G12:G42) -> 0 | H43: =SUM(H12:H42) -> 0 | I43: =SUM(I12:I42) -> 0 | J43: =SUM(J12:J42) -> 0 | K43: =SUM(K12:K42) -> 0 | L43: =SUM(L12:L42) -> 0
B44: FOR OFFICE USE ONLY | I44: =SUM(I12:I42) -> 0 | J44: =SUM(J12:J42) -> 0 | K44: =SUM(K12:K42) -> 0 | L44: =SUM(L12:L42) -> 0 | N44: Treasury Approval: ___________________________________
F45: 11200 | I45: 11200 | J45: 11301 | K45: 11302
B46: Area Travel (10200) = $ | N46: Date: ___________________________________
B48: Note 1 - Report miles for your church district related activities in the Travel in District Business column
B49: Note 2 - Report In Conference Travel Only: out of Conference travel must be reported on the Employee Travel Report: Columns with * requires prior approval and must be accompanied with receipts for payment.

Sheet January 2025
A2: Odometer Reading | D2: CAR 1 | E2: Car 2 | O2: Employee Monthly Report
A3: End of Month | D3: =MAX(R11:R42) -> 0 | E3: =MAX(S11:S42) -> 0 | H3: ='Master Copy'!H3:M5 -> New Jersey Conference of Seventh-day Adventists
A4: Beginning of the Month | D4: =+R11 -> 0 | E4: =+S11 -> 0 | O4: Month: | P4: 45658
A5: Total Miles Driven | D5: =+D3-D4+E3-E4 -> 0 | O5: Employee #: | P5: ='Master Copy'!P5:S5 -> 0
A6: Less Personal Miles | D6: =+H43 -> 0 | H6: 2303 Brunswick Ave, Trenton, NJ 08648 * (609) 802-0860 * Fax: (609) 802-0853 | O6: Name: | P6: ='Master Copy'!P6:S6 -> 0
A7: Less Commute Miles | D7: =+G43 -> 0 | O7: Address: | P7: ='Master Copy'!$P$7:$S$7 -> 0
A8: Special Travel Miles | D8: =+I43 -> 0 | H8: *** Email Reports to: njtreasury@njcsda.org *** | O8: City/State/Zip: | P8: ='Master Copy'!$P$8:$S$8 -> 0
A9: Total Regular Business Miles | D9: =+D5-(+D6+D7+D8) -> 0 | R9: Daily Odometer Reading
F10: TRAVEL IN DISTRICT (Note 1) | I10: AUTHORIZED CONFERENCE VISITS AND ACTIVITIES TRAVEL (Note 2) | R10: Car # 1 | S10: Car # 2
A11: Date | B11: SUMMARY OF ACTIVITIES & LOCATION | F11: Business | G11: Commute | H11: Personal | I11: Miles | J11: P/Diem | K11: * Rooms | L11: * Other | M11: Comments | Q11: Date
A12: 1 | H12: =IF((R12+S12)<1,0,($R12-$R11)+($S12-$S11)-(+$F12+$G12+I12)) -> 0 | Q12: 1
A13: 2 | H13: =IF((R13+S13)<1,0,($R13-$R12)+($S13-$S12)-(+$F13+$G13+I13)) -> 0 | Q13: 2
A14: 3 | H14: =IF((R14+S14)<1,0,($R14-$R13)+($S14-$S13)-(+$F14+$G14+I14)) -> 0 | Q14: 3
A15: 4 | H15: =IF((R15+S15)<1,0,($R15-$R14)+($S15-$S14)-(+$F15+$G15+I15)) -> 0 | Q15: 4
A16: 5 | H16: =IF((R16+S16)<1,0,($R16-$R15)+($S16-$S15)-(+$F16+$G16+I16)) -> 0 | Q16: 5
A17: 6 | H17: =IF((R17+S17)<1,0,($R17-$R16)+($S17-$S16)-(+$F17+$G17+I17)) -> 0 | Q17: 6
A18: 7 | H18: =IF((R18+S18)<1,0,($R18-$R17)+($S18-$S17)-(+$F18+$G18+I18)) -> 0 | Q18: 7
A19: 8 | H19: =IF((R19+S19)<1,0,($R19-$R18)+($S19-$S18)-(+$F19+$G19+I19)) -> 0 | Q19: 8
A20: 9 | H20: =IF((R20+S20)<1,0,($R20-$R19)+($S20-$S19)-(+$F20+$G20+I20)) -> 0 | Q20: 9
A21: 10 | H21: =IF((R21+S21)<1,0,($R21-$R20)+($S21-$S20)-(+$F21+$G21+I21)) -> 0 | Q21: 10
A22: 11 | H22: =IF((R22+S22)<1,0,($R22-$R21)+($S22-$S21)-(+$F22+$G22+I22)) -> 0 | Q22: 11
A23: 12 | H23: =IF((R23+S23)<1,0,($R23-$R22)+($S23-$S22)-(+$F23+$G23+I23)) -> 0 | Q23: 12
... A42: 31 | H42: =IF((R42+S42)<1,0,($R42-$R41)+($S42-$S41)-(+$F42+$G42+I42)) -> 0 | Q42: 31
B43: TOTALS | F43: =SUM(F12:F42) -> 0 | G43: =SUM(G12:G42) -> 0 | H43: =SUM(H12:H42) -> 0 | I43: =SUM(I12:I42) -> 0 | J43: =SUM(J12:J42) -> 0 | K43: =SUM(K12:K42) -> 0 | L43: =SUM(L12:L42) -> 0
B44: FOR OFFICE USE ONLY | N44: Treasurer Approval: ___________________________________
F45: 11200 | I45: ='Master Copy'!I45 -> 11200 | J45: 11301 | K45: 11302
B46: ='Master Copy'!B46 -> Area Travel (10200) = $ | N46: Date: ___________________________________
B48: Note 1 - Report miles for your church district related activities in the Travel in District Business column
B49: Note 2 - Report In Conference Travel Only: out of Conference travel must be reported on the Employee Travel Report: Columns with * requires prior approval and must be accompanied with receipts for payment.

Sheet February 2025
A2: Odometer Reading | D2: CAR 1 | E2: Car 2 | O2: Employee Monthly Report
A3: End of Month | D3: =MAX(R11:R42) -> 0 | E3: =MAX(S11:S42) -> 0 | H3: ='Master Copy'!H3:M5 -> New Jersey Conference of Seventh-day Adventists
A4: Beginning of the Month | D4: =+R11 -> 0 | E4: =+S11 -> 0 | O4: Month: | P4: 45689
A5: Total Miles Driven | D5: =+D3-D4+E3-E4 -> 0 | O5: Employee #: | P5: ='Master Copy'!P5:T5 -> 0
A6: Less Personal Miles | D6: =+H43 -> 0 | H6: 2303 Brunswick Ave, Trenton, NJ 08648 * (609) 802-0860 * Fax: (609) 802-0853 | O6: Name: | P6: ='Master Copy'!P6:T6 -> 0
A7: Less Commute Miles | D7: =+G43 -> 0 | O7: Address: | P7: ='Master Copy'!$P$7:$S$7 -> 0
A8: Special Travel Miles | D8: =+I43 -> 0 | H8: *** Email Reports to: njtreasury@njcsda.org *** | O8: City/State/Zip: | P8: ='Master Copy'!$P$8:$S$8 -> 0
A9: Total Regular Business Miles | D9: =+D5-(+D6+D7+D8) -> 0 | R9: Daily Odometer Reading
F10: TRAVEL IN DISTRICT (Note 1) | I10: AUTHORIZED CONFERENCE VISITS AND ACTIVITIES TRAVEL (Note 2) | R10: Car # 1 | S10: Car # 2
A11: Date | B11: SUMMARY OF ACTIVITIES & LOCATION | F11: Business | G11: Commute | H11: Personal | I11: Miles | J11: P/Diem | K11: * Rooms | L11: * Other | M11: Comments | Q11: Date | R11: ='January 2025'!R42 -> 0 | S11: ='January 2025'!S42 -> 0
A12: 1 | H12: =IF((R12+S12)<1,0,($R12-$R11)+($S12-$S11)-(+$F12+$G12+I12)) -> 0 | Q12: 1
A13: 2 | H13: =IF((R13+S13)<1,0,($R13-$R12)+($S13-$S12)-(+$F13+$G13+I13)) -> 0 | Q13: 2
A14: 3 | H14: =IF((R14+S14)<1,0,($R14-$R13)+($S14-$S13)-(+$F14+$G14+I14)) -> 0 | Q14: 3
A15: 4 | H15: =IF((R15+S15)<1,0,($R15-$R14)+($S15-$S14)-(+$F15+$G15+I15)) -> 0 | Q15: 4
A16: 5 | H16: =IF((R16+S16)<1,0,($R16-$R15)+($S16-$S15)-(+$F16+$G16+I16)) -> 0 | Q16: 5
A17: 6 | H17: =IF((R17+S17)<1,0,($R17-$R16)+($S17-$S16)-(+$F17+$G17+I17)) -> 0 | Q17: 6
A18: 7 | H18: =IF((R18+S18)<1,0,($R18-$R17)+($S18-$S17)-(+$F18+$G18+I18)) -> 0 | Q18: 7
A19: 8 | H19: =IF((R19+S19)<1,0,($R19-$R18)+($S19-$S18)-(+$F19+$G19+I19)) -> 0 | Q19: 8
A20: 9 | H20: =IF((R20+S20)<1,0,($R20-$R19)+($S20-$S19)-(+$F20+$G20+I20)) -> 0 | Q20: 9
A21: 10 | H21: =IF((R21+S21)<1,0,($R21-$R20)+($S21-$S20)-(+$F21+$G21+I21)) -> 0 | Q21: 10
A22: 11 | H22: =IF((R22+S22)<1,0,($R22-$R21)+($S22-$S21)-(+$F22+$G22+I22)) -> 0 | Q22: 11
A23: 12 | H23: =IF((R23+S23)<1,0,($R23-$R22)+($S23-$S22)-(+$F23+$G23+I23)) -> 0 | Q23: 12
... A39: 28 | H39: =IF((R39+S39)<1,0,($R39-$R38)+($S39-$S38)-(+$F39+$G39+I39)) -> 0 | Q39: 28
H40: =IF((R40+S40)<1,0,($R40-$R39)+($S40-$S39)-(+$F40+$G40+I40)) -> 0
H41: =IF((R41+S41)<1,0,($R41-$R40)+($S41-$S40)-(+$F41+$G41+I41)) -> 0
H42: =IF((R42+S42)<1,0,($R42-$R41)+($S42-$S41)-(+$F42+$G42+I42)) -> 0
B43: TOTALS | F43: =SUM(F12:F42) -> 0 | G43: =SUM(G12:G42) -> 0 | H43: =SUM(H12:H42) -> 0 | I43: =SUM(I12:I42) -> 0 | J43: =SUM(J12:J42) -> 0 | K43: =SUM(K12:K42) -> 0 | L43: =SUM(L12:L42) -> 0
B44: FOR OFFICE USE ONLY | N44: Treasury Approval: ___________________________________
F45: 11200 | I45: ='Master Copy'!I45 -> 11200 | J45: 11301 | K45: 11302
B46: ='Master Copy'!B46 -> Area Travel (10200) = $ | N46: Date: ___________________________________
B48: Note 1 - Report miles for your church district related activities in the Travel in District Business column
B49: Note 2 - Report In Conference Travel Only: out of Conference travel must be reported on the Employee Travel Report: Columns with * requires prior approval and must be accompanied with receipts for payment.

Sheet March 2025
A2: Odometer Reading | D2: CAR 1 | E2: Car 2 | O2: Employee Monthly Report
A3: End of Month | D3: =MAX(R11:R42) -> 0 | E3: =MAX(S11:S42) -> 0 | H3: ='Master Copy'!H3:M5 -> New Jersey Conference of Seventh-day Adventists
A4: Beginning of the Month | D4: =+R11 -> 0 | E4: =+S11 -> 0 | O4: Month: | P4: 45717
A5: Total Miles Driven | D5: =+D3-D4+E3-E4 -> 0 | O5: Employee #: | P5: ='Master Copy'!P5:T5 -> 0
A6: Less Personal Miles | D6: =+H43 -> 0 | H6: 2303 Brunswick Ave, Trenton, NJ 08648 * (609) 802-0860 * Fax: (609) 802-0853 | O6: Name: | P6: ='Master Copy'!P6:T6 -> 0
A7: Less Commute Miles | D7: =+G43 -> 0 | O7: Address: | P7: ='Master Copy'!$P$7:$S$7 -> 0
A8: Special Travel Miles | D8: =+I43 -> 0 | H8: *** Email Reports to: njtreasury@njcsda.org *** | O8: City/State/Zip: | P8: ='Master Copy'!$P$8:$S$8 -> 0
A9: Total Regular Business Miles | D9: =+D5-(+D6+D7+D8) -> 0 | R9: Daily Odometer Reading
F10: TRAVEL IN DISTRICT (Note 1) | I10: AUTHORIZED CONFERENCE VISITS AND ACTIVITIES TRAVEL (Note 2) | R10: Car # 1 | S10: Car # 2
A11: Date | B11: SUMMARY OF ACTIVITIES & LOCATION | F11: Business | G11: Commute | H11: Personal | I11: Miles | J11: P/Diem | K11: * Rooms | L11: * Other | M11: Comments | Q11: Date | R11: ='February 2025'!R39 -> 0 | S11: ='February 2025'!S39 -> 0
A12: 1 | H12: =IF((R12+S12)<1,0,($R12-$R11)+($S12-$S11)-(+$F12+$G12+I12)) -> 0 | Q12: 1
A13: 2 | H13: =IF((R13+S13)<1,0,($R13-$R12)+($S13-$S12)-(+$F13+$G13+I13)) -> 0 | Q13: 2
A14: 3 | H14: =IF((R14+S14)<1,0,($R14-$R13)+($S14-$S13)-(+$F14+$G14+I14)) -> 0 | Q14: 3
A15: 4 | H15: =IF((R15+S15)<1,0,($R15-$R14)+($S15-$S14)-(+$F15+$G15+I15)) -> 0 | Q15: 4
A16: 5 | H16: =IF((R16+S16)<1,0,($R16-$R15)+($S16-$S15)-(+$F16+$G16+I16)) -> 0 | Q16: 5
A17: 6 | H17: =IF((R17+S17)<1,0,($R17-$R16)+($S17-$S16)-(+$F17+$G17+I17)) -> 0 | Q17: 6
A18: 7 | H18: =IF((R18+S18)<1,0,($R18-$R17)+($S18-$S17)-(+$F18+$G18+I18)) -> 0 | Q18: 7
A19: 8 | H19: =IF((R19+S19)<1,0,($R19-$R18)+($S19-$S18)-(+$F19+$G19+I19)) -> 0 | Q19: 8
A20: 9 | H20: =IF((R20+S20)<1,0,($R20-$R19)+($S20-$S19)-(+$F20+$G20+I20)) -> 0 | Q20: 9
A21: 10 | H21: =IF((R21+S21)<1,0,($R21-$R20)+($S21-$S20)-(+$F21+$G21+I21)) -> 0 | Q21: 10
A22: 11 | H22: =IF((R22+S22)<1,0,($R22-$R21)+($S22-$S21)-(+$F22+$G22+I22)) -> 0 | Q22: 11
A23: 12 | H23: =IF((R23+S23)<1,0,($R23-$R22)+($S23-$S22)-(+$F23+$G23+I23)) -> 0 | Q23: 12
... A42: 31 | H42: =IF((R42+S42)<1,0,($R42-$R41)+($S42-$S41)-(+$F42+$G42+I42)) -> 0 | Q42: 31
B43: TOTALS | F43: =SUM(F12:F42) -> 0 | G43: =SUM(G12:G42) -> 0 | H43: =SUM(H12:H42) -> 0 | I43: =SUM(I12:I42) -> 0 | J43: =SUM(J12:J42) -> 0 | K43: =SUM(K12:K42) -> 0 | L43: =SUM(L12:L42) -> 0
B44: FOR OFFICE USE ONLY | N44: Treasury Approval: ___________________________________
F45: 11200 | I45: ='Master Copy'!I45 -> 11200 | J45: 11301 | K45: 11302
B46: ='Master Copy'!B46 -> Area Travel (10200) = $ | N46: Date: ___________________________________
B48: Note 1 - Report miles for your church district related activities in the Travel in District Business column
B49: Note 2 - Report In Conference Travel Only: out of Conference travel must be reported on the Employee Travel Report: Columns with * requires prior approval and must be accompanied with receipts for payment.

Sheet April 2025
A2: Odometer Reading | D2: CAR 1 | E2: Car 2 | O2: Employee Monthly Report
A3: End of Month | D3: =MAX(R11:R42) -> 0 | E3: =MAX(S11:S42) -> 0 | H3: ='Master Copy'!H3:M5 -> New Jersey Conference of Seventh-day Adventists
A4: Beginning of the Month | D4: =+R11 -> 0 | E4: =+S11 -> 0 | O4: Month: | P4: 45748
A5: Total Miles Driven | D5: =+D3-D4+E3-E4 -> 0 | O5: Employee #: | P5: ='Master Copy'!P5:T5 -> 0
A6: Less Personal Miles | D6: =+H43 -> 0 | H6: 2303 Brunswick Ave, Trenton, NJ 08648 * (609) 802-0860 * Fax: (609) 802-0853 | O6: Name: | P6: ='Master Copy'!P6:T6 -> 0
A7: Less Commute Miles | D7: =+G43 -> 0 | O7: Address: | P7: ='Master Copy'!$P$7:$S$7 -> 0
A8: Special Travel Miles | D8: =+I43 -> 0 | H8: *** Email Reports to: njtreasury@njcsda.org *** | O8: City/State/Zip: | P8: ='Master Copy'!$P$8:$S$8 -> 0
A9: Total Regular Business Miles | D9: =+D5-(+D6+D7+D8) -> 0 | R9: Daily Odometer Reading
F10: TRAVEL IN DISTRICT (Note 1) | I10: AUTHORIZED CONFERENCE VISITS AND ACTIVITIES TRAVEL (Note 2) | R10: Car # 1 | S10: Car # 2
A11: Date | B11: SUMMARY OF ACTIVITIES & LOCATION | F11: Business | G11: Commute | H11: Personal | I11: Miles | J11: P/Diem | K11: * Rooms | L11: * Other | M11: Comments | Q11: Date | R11: ='March 2025'!R42 -> 0 | S11: ='March 2025'!S42 -> 0
A12: 1 | H12: =IF((R12+S12)<1,0,($R12-$R11)+($S12-$S11)-(+$F12+$G12+I12)) -> 0 | Q12: 1
A13: 2 | H13: =IF((R13+S13)<1,0,($R13-$R12)+($S13-$S12)-(+$F13+$G13+I13)) -> 0 | Q13: 2
A14: 3 | H14: =IF((R14+S14)<1,0,($R14-$R13)+($S14-$S13)-(+$F14+$G14+I14)) -> 0 | Q14: 3
A15: 4 | H15: =IF((R15+S15)<1,0,($R15-$R14)+($S15-$S14)-(+$F15+$G15+I15)) -> 0 | Q15: 4
A16: 5 | H16: =IF((R16+S16)<1,0,($R16-$R15)+($S16-$S15)-(+$F16+$G16+I16)) -> 0 | Q16: 5
A17: 6 | H17: =IF((R17+S17)<1,0,($R17-$R16)+($S17-$S16)-(+$F17+$G17+I17)) -> 0 | Q17: 6
A18: 7 | H18: =IF((R18+S18)<1,0,($R18-$R17)+($S18-$S17)-(+$F18+$G18+I18)) -> 0 | Q18: 7
A19: 8 | H19: =IF((R19+S19)<1,0,($R19-$R18)+($S19-$S18)-(+$F19+$G19+I19)) -> 0 | Q19: 8
A20: 9 | H20: =IF((R20+S20)<1,0,($R20-$R19)+($S20-$S19)-(+$F20+$G20+I20)) -> 0 | Q20: 9
A21: 10 | H21: =IF((R21+S21)<1,0,($R21-$R20)+($S21-$S20)-(+$F21+$G21+I21)) -> 0 | Q21: 10
A22: 11 | H22: =IF((R22+S22)<1,0,($R22-$R21)+($S22-$S21)-(+$F22+$G22+I22)) -> 0 | Q22: 11
A23: 12 | H23: =IF((R23+S23)<1,0,($R23-$R22)+($S23-$S22)-(+$F23+$G23+I23)) -> 0 | Q23: 12
... A41: 30 | H41: =IF((R41+S41)<1,0,($R41-$R40)+($S41-$S40)-(+$F41+$G41+I41)) -> 0 | Q41: 30
H42: =IF((R42+S42)<1,0,($R42-$R41)+($S42-$S41)-(+$F42+$G42+I42)) -> 0
B43: TOTALS | F43: =SUM(F12:F42) -> 0 | G43: =SUM(G12:G42) -> 0 | H43: =SUM(H12:H42) -> 0 | I43: =SUM(I12:I42) -> 0 | J43: =SUM(J12:J42) -> 0 | K43: =SUM(K12:K42) -> 0 | L43: =SUM(L12:L42) -> 0
B44: FOR OFFICE USE ONLY | N44: Treasury Approval: ___________________________________
F45: 11200 | I45: ='Master Copy'!I45 -> 11200 | J45: 11301 | K45: 11302
B46: ='Master Copy'!B46 -> Area Travel (10200) = $ | N46: Date: ___________________________________
B48: Note 1 - Report miles for your church district related activities in the Travel in District Business column
B49: Note 2 - Report In Conference Travel Only: out of Conference travel must be reported on the Employee Travel Report: Columns with * requires prior approval and must be accompanied with receipts for payment.

Sheet May 2025
A2: Odometer Reading | D2: CAR 1 | E2: Car 2 | O2: Employee Monthly Report
A3: End of Month | D3: =MAX(R11:R42) -> 0 | E3: =MAX(S11:S42) -> 0 | H3: ='Master Copy'!H3:M5 -> New Jersey Conference of Seventh-day Adventists
A4: Beginning of the Month | D4: =+R11 -> 0 | E4: =+S11 -> 0 | O4: Month: | P4: 45778
A5: Total Miles Driven | D5: =+D3-D4+E3-E4 -> 0 | O5: Employee #: | P5: ='Master Copy'!P5:T5 -> 0
A6: Less Personal Miles | D6: =+H43 -> 0 | H6: 2303 Brunswick Ave, Trenton, NJ 08648 * (609) 802-0860 * Fax: (609) 802-0853 | O6: Name: | P6: ='Master Copy'!P6:T6 -> 0
A7: Less Commute Miles | D7: =+G43 -> 0 | O7: Address: | P7: ='Master Copy'!$P$7:$S$7 -> 0
A8: Special Travel Miles | D8: =+I43 -> 0 | H8: *** Email Reports to: njtreasury@njcsda.org *** | O8: City/State/Zip: | P8: ='Master Copy'!$P$8:$S$8 -> 0
A9: Total Regular Business Miles | D9: =+D5-(+D6+D7+D8) -> 0 | R9: Daily Odometer Reading
F10: TRAVEL IN DISTRICT (Note 1) | I10: AUTHORIZED CONFERENCE VISITS AND ACTIVITIES TRAVEL (Note 2) | R10: Car # 1 | S10: Car # 2
A11: Date | B11: SUMMARY OF ACTIVITIES & LOCATION | F11: Business | G11: Commute | H11: Personal | I11: Miles | J11: P/Diem | K11: * Rooms | L11: * Other | M11: Comments | Q11: Date | R11: ='April 2025'!R41 -> 0 | S11: ='April 2025'!S41 -> 0
A12: 1 | H12: =IF((R12+S12)<1,0,($R12-$R11)+($S12-$S11)-(+$F12+$G12+I12)) -> 0 | Q12: 1
A13: 2 | H13: =IF((R13+S13)<1,0,($R13-$R12)+($S13-$S12)-(+$F13+$G13+I13)) -> 0 | Q13: 2
A14: 3 | H14: =IF((R14+S14)<1,0,($R14-$R13)+($S14-$S13)-(+$F14+$G14+I14)) -> 0 | Q14: 3
A15: 4 | H15: =IF((R15+S15)<1,0,($R15-$R14)+($S15-$S14)-(+$F15+$G15+I15)) -> 0 | Q15: 4
A16: 5 | H16: =IF((R16+S16)<1,0,($R16-$R15)+($S16-$S15)-(+$F16+$G16+I16)) -> 0 | Q16: 5
A17: 6 | H17: =IF((R17+S17)<1,0,($R17-$R16)+($S17-$S16)-(+$F17+$G17+I17)) -> 0 | Q17: 6
A18: 7 | H18: =IF((R18+S18)<1,0,($R18-$R17)+($S18-$S17)-(+$F18+$G18+I18)) -> 0 | Q18: 7
A19: 8 | H19: =IF((R19+S19)<1,0,($R19-$R18)+($S19-$S18)-(+$F19+$G19+I19)) -> 0 | Q19: 8
A20: 9 | H20: =IF((R20+S20)<1,0,($R20-$R19)+($S20-$S19)-(+$F20+$G20+I20)) -> 0 | Q20: 9
A21: 10 | H21: =IF((R21+S21)<1,0,($R21-$R20)+($S21-$S20)-(+$F21+$G21+I21)) -> 0 | Q21: 10
A22: 11 | H22: =IF((R22+S22)<1,0,($R22-$R21)+($S22-$S21)-(+$F22+$G22+I22)) -> 0 | Q22: 11
A23: 12 | H23: =IF((R23+S23)<1,0,($R23-$R22)+($S23-$S22)-(+$F23+$G23+I23)) -> 0 | Q23: 12
... A42: 31 | H42: =IF((R42+S42)<1,0,($R42-$R41)+($S42-$S41)-(+$F42+$G42+I42)) -> 0 | Q42: 31
B43: TOTALS | F43: =SUM(F12:F42) -> 0 | G43: =SUM(G12:G42) -> 0 | H43: =SUM(H12:H42) -> 0 | I43: =SUM(I12:I42) -> 0 | J43: =SUM(J12:J42) -> 0 | K43: =SUM(K12:K42) -> 0 | L43: =SUM(L12:L42) -> 0
B44: FOR OFFICE USE ONLY | N44: Treasury Approval: ___________________________________
F45: 11200 | I45: ='Master Copy'!I45 -> 11200 | J45: 11301 | K45: 11302
B46: ='Master Copy'!B46 -> Area Travel (10200) = $ | N46: Date: ___________________________________
B48: Note 1 - Report miles for your church district related activities in the Travel in District Business column
B49: Note 2 - Report In Conference Travel Only: out of Conference travel must be reported on the Employee Travel Report: Columns with * requires prior approval and must be accompanied with receipts for payment.

Sheet June 2025
A2: Odometer Reading | D2: CAR 1 | E2: Car 2 | N2: Employee Monthly Report
A3: End of Month | D3: =MAX(R11:R42) -> 0 | E3: =MAX(S11:S42) -> 0 | H3: ='Master Copy'!H3:M5 -> New Jersey Conference of Seventh-day Adventists
A4: Beginning of the Month | D4: =+R11 -> 0 | E4: =+S11 -> 0 | O4: Month: | P4: 45809
A5: Total Miles Driven | D5: =+D3-D4+E3-E4 -> 0 | O5: Employee #: | P5: ='Master Copy'!P5:T5 -> 0
A6: Less Personal Miles | D6: =+H43 -> 0 | H6: 2303 Brunswick Ave, Trenton, NJ 08648 * (609) 802-0860 * Fax: (609) 802-0853 | O6: Name: | P6: ='Master Copy'!P6:T6 -> 0
A7: Less Commute Miles | D7: =+G43 -> 0 | O7: Address: | P7: ='Master Copy'!$P$7:$S$7 -> 0
A8: Special Travel Miles | D8: =+I43 -> 0 | H8: *** Email Reports to: njtreasury@njcsda.org *** | O8: City/State/Zip: | P8: ='Master Copy'!$P$8:$S$8 -> 0
A9: Total Regular Business Miles | D9: =+D5-(+D6+D7+D8) -> 0 | R9: Daily Odometer Reading
F10: TRAVEL IN DISTRICT (Note 1) | I10: AUTHORIZED CONFERENCE VISITS AND ACTIVITIES TRAVEL (Note 2) | R10: Car # 1 | S10: Car # 2
A11: Date | B11: SUMMARY OF ACTIVITIES & LOCATION | F11: Business | G11: Commute | H11: Personal | I11: Miles | J11: P/Diem | K11: * Rooms | L11: * Other | M11: Comments | Q11: Date | R11: ='May 2025'!R42 -> 0 | S11: ='May 2025'!S42 -> 0
A12: 1 | H12: =IF((R12+S12)<1,0,($R12-$R11)+($S12-$S11)-(+$F12+$G12+I12)) -> 0 | Q12: 1
A13: 2 | H13: =IF((R13+S13)<1,0,($R13-$R12)+($S13-$S12)-(+$F13+$G13+I13)) -> 0 | Q13: 2
A14: 3 | H14: =IF((R14+S14)<1,0,($R14-$R13)+($S14-$S13)-(+$F14+$G14+I14)) -> 0 | Q14: 3
A15: 4 | H15: =IF((R15+S15)<1,0,($R15-$R14)+($S15-$S14)-(+$F15+$G15+I15)) -> 0 | Q15: 4
A16: 5 | H16: =IF((R16+S16)<1,0,($R16-$R15)+($S16-$S15)-(+$F16+$G16+I16)) -> 0 | Q16: 5
A17: 6 | H17: =IF((R17+S17)<1,0,($R17-$R16)+($S17-$S16)-(+$F17+$G17+I17)) -> 0 | Q17: 6
A18: 7 | H18: =IF((R18+S18)<1,0,($R18-$R17)+($S18-$S17)-(+$F18+$G18+I18)) -> 0 | Q18: 7
A19: 8 | H19: =IF((R19+S19)<1,0,($R19-$R18)+($S19-$S18)-(+$F19+$G19+I19)) -> 0 | Q19: 8
A20: 9 | H20: =IF((R20+S20)<1,0,($R20-$R19)+($S20-$S19)-(+$F20+$G20+I20)) -> 0 | Q20: 9
A21: 10 | H21: =IF((R21+S21)<1,0,($R21-$R20)+($S21-$S20)-(+$F21+$G21+I21)) -> 0 | Q21: 10
A22: 11 | H22: =IF((R22+S22)<1,0,($R22-$R21)+($S22-$S21)-(+$F22+$G22+I22)) -> 0 | Q22: 11
A23: 12 | H23: =IF((R23+S23)<1,0,($R23-$R22)+($S23-$S22)-(+$F23+$G23+I23)) -> 0 | Q23: 12
... A41: 30 | H41: =IF((R41+S41)<1,0,($R41-$R40)+($S41-$S40)-(+$F41+$G41+I41)) -> 0 | Q41: 30
H42: =IF((R42+S42)<1,0,($R42-$R41)+($S42-$S41)-(+$F42+$G42+I42)) -> 0
B43: TOTALS | F43: =SUM(F12:F42) -> 0 | G43: =SUM(G12:G42) -> 0 | H43: =SUM(H12:H42) -> 0 | I43: =SUM(I12:I42) -> 0 | J43: =SUM(J12:J42) -> 0 | K43: =SUM(K12:K42) -> 0 | L43: =SUM(L12:L42) -> 0
B44: FOR OFFICE USE ONLY | N44: Treasury Approval: ___________________________________
F45: 11200 | I45: ='Master Copy'!I45 -> 11200 | J45: 11301 | K45: 11302
B46: ='Master Copy'!B46 -> Area Travel (10200) = $ | N46: Date: ___________________________________
B48: Note 1 - Report miles for your church district related activities in the Travel in District Business column
B49: Note 2 - Report In Conference Travel Only: out of Conference travel must be reported on the Employee Travel Report: Columns with * requires prior approval and must be accompanied with receipts for payment.

Sheet July 2025
A2: Odometer Reading | D2: CAR 1 | E2: Car 2 | O2: Employee Monthly Report
A3: End of Month | D3: =MAX(R11:R42) -> 0 | E3: =MAX(S11:S42) -> 0 | H3: ='Master Copy'!H3:M5 -> New Jersey Conference of Seventh-day Adventists
A4: Beginning of the Month | D4: =+R11 -> 0 | E4: =+S11 -> 0 | O4: Month: | P4: 45839
A5: Total Miles Driven | D5: =+D3-D4+E3-E4 -> 0 | O5: Employee #: | P5: ='Master Copy'!P5:T5 -> 0
A6: Less Personal Miles | D6: =+H43 -> 0 | H6: 2303 Brunswick Ave, Trenton, NJ 08648 * (609) 802-0860 * Fax: (609) 802-0853 | O6: Name: | P6: ='Master Copy'!P6:T6 -> 0
A7: Less Commute Miles | D7: =+G43 -> 0 | O7: Address: | P7: ='Master Copy'!$P$7:$S$7 -> 0
A8: Special Travel Miles | D8: =+I43 -> 0 | H8: *** Email Reports to: njtreasury@njcsda.org *** | O8: City/State/Zip: | P8: ='Master Copy'!$P$8:$S$8 -> 0
A9: Total Regular Business Miles | D9: =+D5-(+D6+D7+D8) -> 0 | R9: Daily Odometer Reading
F10: TRAVEL IN DISTRICT (Note 1) | I10: AUTHORIZED CONFERENCE VISITS AND ACTIVITIES TRAVEL (Note 2) | R10: Car # 1 | S10: Car # 2
A11: Date | B11: SUMMARY OF ACTIVITIES & LOCATION | F11: Business | G11: Commute | H11: Personal | I11: Miles | J11: P/Diem | K11: * Rooms | L11: * Other | M11: Comments | Q11: Date | R11: ='June 2025'!R41 -> 0 | S11: ='June 2025'!S41 -> 0
A12: 1 | H12: =IF((R12+S12)<1,0,($R12-$R11)+($S12-$S11)-(+$F12+$G12+I12)) -> 0 | Q12: 1
A13: 2 | H13: =IF((R13+S13)<1,0,($R13-$R12)+($S13-$S12)-(+$F13+$G13+I13)) -> 0 | Q13: 2
A14: 3 | H14: =IF((R14+S14)<1,0,($R14-$R13)+($S14-$S13)-(+$F14+$G14+I14)) -> 0 | Q14: 3
A15: 4 | H15: =IF((R15+S15)<1,0,($R15-$R14)+($S15-$S14)-(+$F15+$G15+I15)) -> 0 | Q15: 4
A16: 5 | H16: =IF((R16+S16)<1,0,($R16-$R15)+($S16-$S15)-(+$F16+$G16+I16)) -> 0 | Q16: 5
A17: 6 | H17: =IF((R17+S17)<1,0,($R17-$R16)+($S17-$S16)-(+$F17+$G17+I17)) -> 0 | Q17: 6
A18: 7 | H18: =IF((R18+S18)<1,0,($R18-$R17)+($S18-$S17)-(+$F18+$G18+I18)) -> 0 | Q18: 7
A19: 8 | H19: =IF((R19+S19)<1,0,($R19-$R18)+($S19-$S18)-(+$F19+$G19+I19)) -> 0 | Q19: 8
A20: 9 | H20: =IF((R20+S20)<1,0,($R20-$R19)+($S20-$S19)-(+$F20+$G20+I20)) -> 0 | Q20: 9
A21: 10 | H21: =IF((R21+S21)<1,0,($R21-$R20)+($S21-$S20)-(+$F21+$G21+I21)) -> 0 | Q21: 10
A22: 11 | H22: =IF((R22+S22)<1,0,($R22-$R21)+($S22-$S21)-(+$F22+$G22+I22)) -> 0 | Q22: 11
A23: 12 | H23: =IF((R23+S23)<1,0,($R23-$R22)+($S23-$S22)-(+$F23+$G23+I23)) -> 0 | Q23: 12
... A42: 31 | H42: =IF((R42+S42)<1,0,($R42-$R41)+($S42-$S41)-(+$F42+$G42+I42)) -> 0 | Q42: 31
B43: TOTALS | F43: =SUM(F12:F42) -> 0 | G43: =SUM(G12:G42) -> 0 | H43: =SUM(H12:H42) -> 0 | I43: =SUM(I12:I42) -> 0 | J43: =SUM(J12:J42) -> 0 | K43: =SUM(K12:K42) -> 0 | L43: =SUM(L12:L42) -> 0
B44: FOR OFFICE USE ONLY | N44: Treasury Approval: ___________________________________
F45: 11200 | I45: ='Master Copy'!I45 -> 11200 | J45: 11301 | K45: 11302
B46: ='Master Copy'!B46 -> Area Travel (10200) = $ | N46: Date: ___________________________________
B48: Note 1 - Report miles for your church district related activities in the Travel in District Business column
B49: Note 2 - Report In Conference Travel Only: out of Conference travel must be reported on the Employee Travel Report: Columns with * requires prior approval and must be accompanied with receipts for payment.

Sheet August 2025
A2: Odometer Reading | D2: CAR 1 | E2: Car 2 | O2: Employee Monthly Report
A3: End of Month | D3: =MAX(R11:R42) -> 0 | E3: =MAX(S11:S42) -> 0 | H3: ='Master Copy'!H3:M5 -> New Jersey Conference of Seventh-day Adventists
A4: Beginning of the Month | D4: =+R11 -> 0 | E4: =+S11 -> 0 | O4: Month: | P4: 45870
A5: Total Miles Driven | D5: =+D3-D4+E3-E4 -> 0 | O5: Employee #: | P5: ='Master Copy'!P5:T5 -> 0
A6: Less Personal Miles | D6: =+H43 -> 0 | H6: 2303 Brunswick Ave, Trenton, NJ 08648 * (609) 802-0860 * Fax: (609) 802-0853 | O6: Name: | P6: ='Master Copy'!P6:T6 -> 0
A7: Less Commute Miles | D7: =+G43 -> 0 | O7: Address: | P7: ='Master Copy'!$P$7:$S$7 -> 0
A8: Special Travel Miles | D8: =+I43 -> 0 | H8: *** Email Reports to: njtreasury@njcsda.org *** | O8: City/State/Zip: | P8: ='Master Copy'!$P$8:$S$8 -> 0
A9: Total Regular Business Miles | D9: =+D5-(+D6+D7+D8) -> 0 | R9: Daily Odometer Reading
F10: TRAVEL IN DISTRICT (Note 1) | I10: AUTHORIZED CONFERENCE VISITS AND ACTIVITIES TRAVEL (Note 2) | R10: Car # 1 | S10: Car # 2
A11: Date | B11: SUMMARY OF ACTIVITIES & LOCATION | F11: Business | G11: Commute | H11: Personal | I11: Miles | J11: P/Diem | K11: * Rooms | L11: * Other | M11: Comments | Q11: Date | R11: ='July 2025'!R42 -> 0 | S11: ='July 2025'!S42 -> 0
A12: 1 | H12: =IF((R12+S12)<1,0,($R12-$R11)+($S12-$S11)-(+$F12+$G12+I12)) -> 0 | Q12: 1
A13: 2 | H13: =IF((R13+S13)<1,0,($R13-$R12)+($S13-$S12)-(+$F13+$G13+I13)) -> 0 | Q13: 2
A14: 3 | H14: =IF((R14+S14)<1,0,($R14-$R13)+($S14-$S13)-(+$F14+$G14+I14)) -> 0 | Q14: 3
A15: 4 | H15: =IF((R15+S15)<1,0,($R15-$R14)+($S15-$S14)-(+$F15+$G15+I15)) -> 0 | Q15: 4
A16: 5 | H16: =IF((R16+S16)<1,0,($R16-$R15)+($S16-$S15)-(+$F16+$G16+I16)) -> 0 | Q16: 5
A17: 6 | H17: =IF((R17+S17)<1,0,($R17-$R16)+($S17-$S16)-(+$F17+$G17+I17)) -> 0 | Q17: 6
A18: 7 | H18: =IF((R18+S18)<1,0,($R18-$R17)+($S18-$S17)-(+$F18+$G18+I18)) -> 0 | Q18: 7
A19: 8 | H19: =IF((R19+S19)<1,0,($R19-$R18)+($S19-$S18)-(+$F19+$G19+I19)) -> 0 | Q19: 8
A20: 9 | H20: =IF((R20+S20)<1,0,($R20-$R19)+($S20-$S19)-(+$F20+$G20+I20)) -> 0 | Q20: 9
A21: 10 | H21: =IF((R21+S21)<1,0,($R21-$R20)+($S21-$S20)-(+$F21+$G21+I21)) -> 0 | Q21: 10
A22: 11 | H22: =IF((R22+S22)<1,0,($R22-$R21)+($S22-$S21)-(+$F22+$G22+I22)) -> 0 | Q22: 11
A23: 12 | H23: =IF((R23+S23)<1,0,($R23-$R22)+($S23-$S22)-(+$F23+$G23+I23)) -> 0 | Q23: 12
... A42: 31 | H42: =IF((R42+S42)<1,0,($R42-$R41)+($S42-$S41)-(+$F42+$G42+I42)) -> 0 | Q42: 31
B43: TOTALS | F43: =SUM(F12:F42) -> 0 | G43: =SUM(G12:G42) -> 0 | H43: =SUM(H12:H42) -> 0 | I43: =SUM(I12:I42) -> 0 | J43: =SUM(J12:J42) -> 0 | K43: =SUM(K12:K42) -> 0 | L43: =SUM(L12:L42) -> 0
B44: FOR OFFICE USE ONLY | N44: Treasury Approval: ___________________________________
F45: 11200 | I45: ='Master Copy'!I45 -> 11200 | J45: 11301 | K45: 11302
B46: ='Master Copy'!B46 -> Area Travel (10200) = $ | N46: Date: ___________________________________
B48: Note 1 - Report miles for your church district related activities in the Travel in District Business column
B49: Note 2 - Report In Conference Travel Only: out of Conference travel must be reported on the Employee Travel Report: Columns with * requires prior approval and must be accompanied with receipts for payment.

Sheet September 2025
A2: Odometer Reading | D2: CAR 1 | E2: Car 2 | O2: Employee Monthly Report
A3: End of Month | D3: =MAX(R11:R42) -> 0 | E3: =MAX(S11:S42) -> 0 | H3: ='Master Copy'!H3:M5 -> New Jersey Conference of Seventh-day Adventists
A4: Beginning of the Month | D4: =+R11 -> 0 | E4: =+S11 -> 0 | O4: Month: | P4: 45901
A5: Total Miles Driven | D5: =+D3-D4+E3-E4 -> 0 | O5: Employee #: | P5: ='Master Copy'!P5:T5 -> 0
A6: Less Personal Miles | D6: =+H43 -> 0 | H6: 2303 Brunswick Ave, Trenton, NJ 08648 * (609) 802-0860 * Fax: (609) 802-0853 | O6: Name: | P6: ='Master Copy'!P6:T6 -> 0
A7: Less Commute Miles | D7: =+G43 -> 0 | O7: Address: | P7: ='Master Copy'!$P$7:$S$7 -> 0
A8: Special Travel Miles | D8: =+I43 -> 0 | H8: *** Email Reports to: njtreasury@njcsda.org *** | O8: City/State/Zip: | P8: ='Master Copy'!$P$8:$S$8 -> 0
A9: Total Regular Business Miles | D9: =+D5-(+D6+D7+D8) -> 0 | R9: Daily Odometer Reading
F10: TRAVEL IN DISTRICT (Note 1) | I10: AUTHORIZED CONFERENCE VISITS AND ACTIVITIES TRAVEL (Note 2) | R10: Car # 1 | S10: Car # 2
A11: Date | B11: SUMMARY OF ACTIVITIES & LOCATION | F11: Business | G11: Commute | H11: Personal | I11: Miles | J11: P/Diem | K11: * Rooms | L11: * Other | M11: Comments | Q11: Date | R11: ='August 2025'!R42 -> 0 | S11: ='August 2025'!S42 -> 0
A12: 1 | H12: =IF((R12+S12)<1,0,($R12-$R11)+($S12-$S11)-(+$F12+$G12+I12)) -> 0 | Q12: 1
A13: 2 | H13: =IF((R13+S13)<1,0,($R13-$R12)+($S13-$S12)-(+$F13+$G13+I13)) -> 0 | Q13: 2
A14: 3 | H14: =IF((R14+S14)<1,0,($R14-$R13)+($S14-$S13)-(+$F14+$G14+I14)) -> 0 | Q14: 3
A15: 4 | H15: =IF((R15+S15)<1,0,($R15-$R14)+($S15-$S14)-(+$F15+$G15+I15)) -> 0 | Q15: 4
A16: 5 | H16: =IF((R16+S16)<1,0,($R16-$R15)+($S16-$S15)-(+$F16+$G16+I16)) -> 0 | Q16: 5
A17: 6 | H17: =IF((R17+S17)<1,0,($R17-$R16)+($S17-$S16)-(+$F17+$G17+I17)) -> 0 | Q17: 6
A18: 7 | H18: =IF((R18+S18)<1,0,($R18-$R17)+($S18-$S17)-(+$F18+$G18+I18)) -> 0 | Q18: 7
A19: 8 | H19: =IF((R19+S19)<1,0,($R19-$R18)+($S19-$S18)-(+$F19+$G19+I19)) -> 0 | Q19: 8
A20: 9 | H20: =IF((R20+S20)<1,0,($R20-$R19)+($S20-$S19)-(+$F20+$G20+I20)) -> 0 | Q20: 9
A21: 10 | H21: =IF((R21+S21)<1,0,($R21-$R20)+($S21-$S20)-(+$F21+$G21+I21)) -> 0 | Q21: 10
A22: 11 | H22: =IF((R22+S22)<1,0,($R22-$R21)+($S22-$S21)-(+$F22+$G22+I22)) -> 0 | Q22: 11
A23: 12 | H23: =IF((R23+S23)<1,0,($R23-$R22)+($S23-$S22)-(+$F23+$G23+I23)) -> 0 | Q23: 12
... A41: 30 | H41: =IF((R41+S41)<1,0,($R41-$R40)+($S41-$S40)-(+$F41+$G41+I41)) -> 0 | Q41: 30
H42: =IF((R42+S42)<1,0,($R42-$R41)+($S42-$S41)-(+$F42+$G42+I42)) -> 0
B43: TOTALS | F43: =SUM(F12:F42) -> 0 | G43: =SUM(G12:G42) -> 0 | H43: =SUM(H12:H42) -> 0 | I43: =SUM(I12:I42) -> 0 | J43: =SUM(J12:J42) -> 0 | K43: =SUM(K12:K42) -> 0 | L43: =SUM(L12:L42) -> 0
B44: FOR OFFICE USE ONLY | N44: Treasury Approval: ___________________________________
F45: 11200 | I45: ='Master Copy'!I45 -> 11200 | J45: 11301 | K45: 11302
B46: ='Master Copy'!B46 -> Area Travel (10200) = $ | N46: Date: ___________________________________
B48: Note 1 - Report miles for your church district related activities in the Travel in District Business column
B49: Note 2 - Report In Conference Travel Only: out of Conference travel must be reported on the Employee Travel Report: Columns with * requires prior approval and must be accompanied with receipts for payment.

Sheet October 2025
A2: Odometer Reading | D2: CAR 1 | E2: Car 2 | O2: Employee Monthly Report
A3: End of Month | D3: =MAX(R11:R42) -> 0 | E3: =MAX(S11:S42) -> 0 | H3: ='Master Copy'!H3:M5 -> New Jersey Conference of Seventh-day Adventists
A4: Beginning of the Month | D4: =+R11 -> 0 | E4: =+S11 -> 0 | O4: Month: | P4: 45931
A5: Total Miles Driven | D5: =+D3-D4+E3-E4 -> 0 | O5: Employee #: | P5: ='Master Copy'!P5:T5 -> 0
A6: Less Personal Miles | D6: =+H43 -> 0 | H6: 2303 Brunswick Ave, Trenton, NJ 08648 * (609) 802-0860 * Fax: (609) 802-0853 | O6: Name: | P6: ='Master Copy'!P6:T6 -> 0
A7: Less Commute Miles | D7: =+G43 -> 0 | O7: Address: | P7: ='Master Copy'!$P$7:$S$7 -> 0
A8: Special Travel Miles | D8: =+I43 -> 0 | H8: *** Email Reports to: njtreasury@njcsda.org *** | O8: City/State/Zip: | P8: ='Master Copy'!$P$8:$S$8 -> 0
A9: Total Regular Business Miles | D9: =+D5-(+D6+D7+D8) -> 0 | R9: Daily Odometer Reading
F10: TRAVEL IN DISTRICT (Note 1) | I10: AUTHORIZED CONFERENCE VISITS AND ACTIVITIES TRAVEL (Note 2) | R10: Car # 1 | S10: Car # 2
A11: Date | B11: SUMMARY OF ACTIVITIES & LOCATION | F11: Business | G11: Commute | H11: Personal | I11: Miles | J11: P/Diem | K11: * Rooms | L11: * Other | M11: Comments | Q11: Date | R11: ='September 2025'!R41 -> 0 | S11: ='September 2025'!S41 -> 0
A12: 1 | H12: =IF((R12+S12)<1,0,($R12-$R11)+($S12-$S11)-(+$F12+$G12+I12)) -> 0 | Q12: 1
A13: 2 | H13: =IF((R13+S13)<1,0,($R13-$R12)+($S13-$S12)-(+$F13+$G13+I13)) -> 0 | Q13: 2
A14: 3 | H14: =IF((R14+S14)<1,0,($R14-$R13)+($S14-$S13)-(+$F14+$G14+I14)) -> 0 | Q14: 3
A15: 4 | H15: =IF((R15+S15)<1,0,($R15-$R14)+($S15-$S14)-(+$F15+$G15+I15)) -> 0 | Q15: 4
A16: 5 | H16: =IF((R16+S16)<1,0,($R16-$R15)+($S16-$S15)-(+$F16+$G16+I16)) -> 0 | Q16: 5
A17: 6 | H17: =IF((R17+S17)<1,0,($R17-$R16)+($S17-$S16)-(+$F17+$G17+I17)) -> 0 | Q17: 6
A18: 7 | H18: =IF((R18+S18)<1,0,($R18-$R17)+($S18-$S17)-(+$F18+$G18+I18)) -> 0 | Q18: 7
A19: 8 | H19: =IF((R19+S19)<1,0,($R19-$R18)+($S19-$S18)-(+$F19+$G19+I19)) -> 0 | Q19: 8
A20: 9 | H20: =IF((R20+S20)<1,0,($R20-$R19)+($S20-$S19)-(+$F20+$G20+I20)) -> 0 | Q20: 9
A21: 10 | H21: =IF((R21+S21)<1,0,($R21-$R20)+($S21-$S20)-(+$F21+$G21+I21)) -> 0 | Q21: 10
A22: 11 | H22: =IF((R22+S22)<1,0,($R22-$R21)+($S22-$S21)-(+$F22+$G22+I22)) -> 0 | Q22: 11
A23: 12 | H23: =IF((R23+S23)<1,0,($R23-$R22)+($S23-$S22)-(+$F23+$G23+I23)) -> 0 | Q23: 12
... A42: 31 | H42: =IF((R42+S42)<1,0,($R42-$R41)+($S42-$S41)-(+$F42+$G42+I42)) -> 0 | Q42: 31
B43: TOTALS | F43: =SUM(F12:F42) -> 0 | G43: =SUM(G12:G42) -> 0 | H43: =SUM(H12:H42) -> 0 | I43: =SUM(I12:I42) -> 0 | J43: =SUM(J12:J42) -> 0 | K43: =SUM(K12:K42) -> 0 | L43: =SUM(L12:L42) -> 0
B44: FOR OFFICE USE ONLY | N44: Treasury Approval: ___________________________________
F45: 11200 | I45: ='Master Copy'!I45 -> 11200 | J45: 11301 | K45: 11302
B46: ='Master Copy'!B46 -> Area Travel (10200) = $ | N46: Date: ___________________________________
B48: Note 1 - Report miles for your church district related activities in the Travel in District Business column
B49: Note 2 - Report In Conference Travel Only: out of Conference travel must be reported on the Employee Travel Report: Columns with * requires prior approval and must be accompanied with receipts for payment.

Sheet November 2025
A2: Odometer Reading | D2: CAR 1 | E2: Car 2 | O2: Employee Monthly Report
A3: End of Month | D3: =MAX(R11:R42) -> 0 | E3: =MAX(S11:S42) -> 0 | H3: ='Master Copy'!H3:M5 -> New Jersey Conference of Seventh-day Adventists
A4: Beginning of the Month | D4: =+R11 -> 0 | E4: =+S11 -> 0 | O4: Month: | P4: 45962
A5: Total Miles Driven | D5: =+D3-D4+E3-E4 -> 0 | O5: Employee #: | P5: ='Master Copy'!P5:T5 -> 0
A6: Less Personal Miles | D6: =+H43 -> 0 | H6: 2303 Brunswick Ave, Trenton, NJ 08648 * (609) 802-0860 * Fax: (609) 802-0853 | O6: Name: | P6: ='Master Copy'!P6:T6 -> 0
A7: Less Commute Miles | D7: =+G43 -> 0 | O7: Address: | P7: ='Master Copy'!$P$7:$S$7 -> 0
A8: Special Travel Miles | D8: =+I43 -> 0 | H8: *** Email Reports to: njtreasury@njcsda.org *** | O8: City/State/Zip: | P8: ='Master Copy'!$P$8:$S$8 -> 0
A9: Total Regular Business Miles | D9: =+D5-(+D6+D7+D8) -> 0 | R9: Daily Odometer Reading
F10: TRAVEL IN DISTRICT (Note 1) | I10: AUTHORIZED CONFERENCE VISITS AND ACTIVITIES TRAVEL (Note 2) | R10: Car # 1 | S10: Car # 2
A11: Date | B11: SUMMARY OF ACTIVITIES & LOCATION | F11: Business | G11: Commute | H11: Personal | I11: Miles | J11: P/Diem | K11: * Rooms | L11: * Other | M11: Comments | Q11: Date | R11: ='October 2025'!R42 -> 0 | S11: ='October 2025'!S42 -> 0
A12: 1 | H12: =IF((R12+S12)<1,0,($R12-$R11)+($S12-$S11)-(+$F12+$G12+I12)) -> 0 | Q12: 1
A13: 2 | H13: =IF((R13+S13)<1,0,($R13-$R12)+($S13-$S12)-(+$F13+$G13+I13)) -> 0 | Q13: 2
A14: 3 | H14: =IF((R14+S14)<1,0,($R14-$R13)+($S14-$S13)-(+$F14+$G14+I14)) -> 0 | Q14: 3
A15: 4 | H15: =IF((R15+S15)<1,0,($R15-$R14)+($S15-$S14)-(+$F15+$G15+I15)) -> 0 | Q15: 4
A16: 5 | H16: =IF((R16+S16)<1,0,($R16-$R15)+($S16-$S15)-(+$F16+$G16+I16)) -> 0 | Q16: 5
A17: 6 | H17: =IF((R17+S17)<1,0,($R17-$R16)+($S17-$S16)-(+$F17+$G17+I17)) -> 0 | Q17: 6
A18: 7 | H18: =IF((R18+S18)<1,0,($R18-$R17)+($S18-$S17)-(+$F18+$G18+I18)) -> 0 | Q18: 7
A19: 8 | H19: =IF((R19+S19)<1,0,($R19-$R18)+($S19-$S18)-(+$F19+$G19+I19)) -> 0 | Q19: 8
A20: 9 | H20: =IF((R20+S20)<1,0,($R20-$R19)+($S20-$S19)-(+$F20+$G20+I20)) -> 0 | Q20: 9
A21: 10 | H21: =IF((R21+S21)<1,0,($R21-$R20)+($S21-$S20)-(+$F21+$G21+I21)) -> 0 | Q21: 10
A22: 11 | H22: =IF((R22+S22)<1,0,($R22-$R21)+($S22-$S21)-(+$F22+$G22+I22)) -> 0 | Q22: 11
A23: 12 | H23: =IF((R23+S23)<1,0,($R23-$R22)+($S23-$S22)-(+$F23+$G23+I23)) -> 0 | Q23: 12
... A41: 30 | H41: =IF((R41+S41)<1,0,($R41-$R40)+($S41-$S40)-(+$F41+$G41+I41)) -> 0 | Q41: 30
H42: =IF((R42+S42)<1,0,($R42-$R41)+($S42-$S41)-(+$F42+$G42+I42)) -> 0
B43: TOTALS | F43: =SUM(F12:F42) -> 0 | G43: =SUM(G12:G42) -> 0 | H43: =SUM(H12:H42) -> 0 | I43: =SUM(I12:I42) -> 0 | J43: =SUM(J12:J42) -> 0 | K43: =SUM(K12:K42) -> 0 | L43: =SUM(L12:L42) -> 0
B44: FOR OFFICE USE ONLY | N44: Treasury Approval: ___________________________________
F45: 11200 | I45: ='Master Copy'!I45 -> 11200 | J45: 11301 | K45: 11302
B46: ='Master Copy'!B46 -> Area Travel (10200) = $ | N46: Date: ___________________________________
B48: Note 1 - Report miles for your church district related activities in the Travel in District Business column
B49: Note 2 - Report In Conference Travel Only: out of Conference travel must be reported on the Employee Travel Report: Columns with * requires prior approval and must be accompanied with receipts for payment.

Sheet December 2025
A2: Odometer Reading | D2: CAR 1 | E2: Car 2 | O2: Employee Monthly Report
A3: End of Month | D3: =MAX(R11:R42) -> 0 | E3: =MAX(S11:S42) -> 0 | H3: ='Master Copy'!H3:M5 -> New Jersey Conference of Seventh-day Adventists
A4: Beginning of the Month | D4: =+R11 -> 0 | E4: =+S11 -> 0 | O4: Month: | P4: 45992
A5: Total Miles Driven | D5: =+D3-D4+E3-E4 -> 0 | O5: Employee #: | P5: ='Master Copy'!P5:T5 -> 0
A6: Less Personal Miles | D6: =+H43 -> 0 | H6: 2303 Brunswick Ave, Trenton, NJ 08648 * (609) 802-0860 * Fax: (609) 802-0853 | O6: Name: | P6: ='Master Copy'!P6:T6 -> 0
A7: Less Commute Miles | D7: =+G43 -> 0 | O7: Address: | P7: ='Master Copy'!$P$7:$S$7 -> 0
A8: Special Travel Miles | D8: =+I43 -> 0 | H8: *** Email Reports to: njtreasury@njcsda.org *** | O8: City/State/Zip: | P8: ='Master Copy'!$P$8:$S$8 -> 0
A9: Total Regular Business Miles | D9: =+D5-(+D6+D7+D8) -> 0 | R9: Daily Odometer Reading
F10: TRAVEL IN DISTRICT (Note 1) | I10: AUTHORIZED CONFERENCE VISITS AND ACTIVITIES TRAVEL (Note 2) | R10: Car # 1 | S10: Car # 2
A11: Date | B11: SUMMARY OF ACTIVITIES & LOCATION | F11: Business | G11: Commute | H11: Personal | I11: Miles | J11: P/Diem | K11: * Rooms | L11: * Other | M11: Comments | Q11: Date | R11: ='November 2025'!R41 -> 0 | S11: ='November 2025'!S41 -> 0
A12: 1 | H12: =IF((R12+S12)<1,0,($R12-$R11)+($S12-$S11)-(+$F12+$G12+I12)) -> 0 | Q12: 1
A13: 2 | H13: =IF((R13+S13)<1,0,($R13-$R12)+($S13-$S12)-(+$F13+$G13+I13)) -> 0 | Q13: 2
A14: 3 | H14: =IF((R14+S14)<1,0,($R14-$R13)+($S14-$S13)-(+$F14+$G14+I14)) -> 0 | Q14: 3
A15: 4 | H15: =IF((R15+S15)<1,0,($R15-$R14)+($S15-$S14)-(+$F15+$G15+I15)) -> 0 | Q15: 4
A16: 5 | H16: =IF((R16+S16)<1,0,($R16-$R15)+($S16-$S15)-(+$F16+$G16+I16)) -> 0 | Q16: 5
A17: 6 | H17: =IF((R17+S17)<1,0,($R17-$R16)+($S17-$S16)-(+$F17+$G17+I17)) -> 0 | Q17: 6
A18: 7 | H18: =IF((R18+S18)<1,0,($R18-$R17)+($S18-$S17)-(+$F18+$G18+I18)) -> 0 | Q18: 7
A19: 8 | H19: =IF((R19+S19)<1,0,($R19-$R18)+($S19-$S18)-(+$F19+$G19+I19)) -> 0 | Q19: 8
A20: 9 | H20: =IF((R20+S20)<1,0,($R20-$R19)+($S20-$S19)-(+$F20+$G20+I20)) -> 0 | Q20: 9
A21: 10 | H21: =IF((R21+S21)<1,0,($R21-$R20)+($S21-$S20)-(+$F21+$G21+I21)) -> 0 | Q21: 10
A22: 11 | H22: =IF((R22+S22)<1,0,($R22-$R21)+($S22-$S21)-(+$F22+$G22+I22)) -> 0 | Q22: 11
A23: 12 | H23: =IF((R23+S23)<1,0,($R23-$R22)+($S23-$S22)-(+$F23+$G23+I23)) -> 0 | Q23: 12
... A42: 31 | H42: =IF((R42+S42)<1,0,($R42-$R41)+($S42-$S41)-(+$F42+$G42+I42)) -> 0 | Q42: 31
B43: TOTALS | F43: =SUM(F12:F42) -> 0 | G43: =SUM(G12:G42) -> 0 | H43: =SUM(H12:H42) -> 0 | I43: =SUM(I12:I42) -> 0 | J43: =SUM(J12:J42) -> 0 | K43: =SUM(K12:K42) -> 0 | L43: =SUM(L12:L42) -> 0
B44: FOR OFFICE USE ONLY | N44: Treasury Approval: ___________________________________
F45: 11200 | I45: ='Master Copy'!I45 -> 11200 | J45: 11301 | K45: 11302
B46: ='Master Copy'!B46 -> Area Travel (10200) = $ | N46: Date: ___________________________________
B48: Note 1 - Report miles for your church district related activities in the Travel in District Business column
B49: Note 2 - Report In Conference Travel Only: out of Conference travel must be reported on the Employee Travel Report: Columns with * requires prior approval and must be accompanied with receipts for payment.
